BEGIN:VCALENDAR
VERSION:2.0
PRODID:gruene-wilhelmshaven.de
METHOD:PUBLISH
BEGIN:VTIMEZONE
TZID:Europe/Berlin
X-LIC-LOCATION:Europe/Berlin
BEGIN:DAYLIGHT
TZOFFSETFROM:+0100
TZOFFSETTO:+0200
TZNAME:CEST
DTSTART:19700329T020000
RRULE:FREQ=YEARLY;INTERVAL=1;BYDAY=-1SU;BYMONTH=3
END:DAYLIGHT
BEGIN:STANDARD
TZOFFSETFROM:+0200
TZOFFSETTO:+0100
TZNAME:CET
DTSTART:19701025T030000
RRULE:FREQ=YEARLY;INTERVAL=1;BYDAY=-1SU;BYMONTH=10
END:STANDARD
END:VTIMEZONE
BEGIN:VEVENT
UID:e0a8c027cdf25b3df00156ccaf64fa41@gruene-wilhelmshaven.de
URL;VALUE=URI:https://gruene-wilhelmshaven.de/termine/ag-rat-3/
LOCATION:Wilhelmshaven
SUMMARY:AG RAT
DESCRIPTION;ALTREP="data:text/html,%0A%3Cp%3EIn%20der%20Arbeitsgruppe%20%
 E2%80%9EAG%20Ratsgruppe%E2%80%9C%20treffen%20wir%20uns%20regelm%C3%A4%C3%
 9Fig%2C%20um%20wichtige%20Themen%20rund%20um%20die%20Ratsarbeit%20in%20Wi
 lhelmshaven%20zu%20besprechen%2C%20zuk%C3%BCnftige%20Ausschussarbeit%20vo
 rzubereiten%20und%20uns%20%C3%BCber%20aktuelle%20kommunalpolitische%20Ent
 wicklungen%20auszutauschen.%3C%2Fp%3E%0A%0A%0A%0A%3Cp%3EDabei%20tauschen%
 20wir%20uns%20aus%2C%20planen%20gemeinsame%20Aktionen%20und%20erarbeiten%
 20Strategien%20f%C3%BCr%20die%20anstehenden%20Rats-%20und%20Ausschuss-Sit
 zungen.%20Alle%20Interessierten%20sind%20herzlich%20willkommen%2C%20aktiv
 %20mitzuwirken%20und%20sich%20zu%20informieren.%3C%2Fp%3E%0A%0A%0A%0A%3Cp
 %3E%3C%2Fp%3E%0A":In der Arbeitsgruppe „AG Ratsgruppe“ treffen wir un
 s regelmäßig\, um wichtige Themen rund um die Ratsarbeit in Wilhelmshav
 en zu besprechen\, zukünftige Ausschussarbeit vorzubereiten und uns übe
 r aktuelle kommunalpolitische Entwicklungen auszutauschen.\n\nDabei tausc
 hen wir uns aus\, planen gemeinsame Aktionen und erarbeiten Strategien f
 ür die anstehenden Rats- und Ausschuss-Sitzungen. Alle Interessierten si
 nd herzlich willkommen\, aktiv mitzuwirken und sich zu informieren.
CLASS:PUBLIC
DTSTART;TZID=Europe/Berlin:20250807T190000
DTEND;TZID=Europe/Berlin:20250807T200000
DTSTAMP:20260421T094942
END:VEVENT
END:VCALENDAR